BEGIN:VCALENDAR
PRODID:-//Veranstaltung//EN
VERSION:2.0
CALSCALE:GREGORIAN
BEGIN:VEVENT
DTSTART;VALUE=DATE-TIME:20260428T160000
DTEND;VALUE=DATE-TIME:20260428T173000
SUMMARY:When Security Comes Home: The Impact on Local Communities in the High North
LOCATION:Tromsø
DESCRIPTION:This public panel discussion will critically examine the risks posed by an increasingly militarised national security approach to local communities in the High North and will explore strategies for mitigating negative repercussions.
UID:
END:VEVENT
END:VCALENDAR