BEGIN:VCALENDAR
PRODID:-//Veranstaltung//EN
VERSION:2.0
CALSCALE:GREGORIAN
BEGIN:VEVENT
DTSTART;VALUE=DATE-TIME:20260316T000000
DTEND;VALUE=DATE-TIME:20260316T235959
SUMMARY:Vorschläge der Parteien zu Wirtschaft, Sicherheit und Justiz
LOCATION:
DESCRIPTION:Am kommenden 16. März veranstalten die Konrad-Adenauer-Stiftung (KAS) Peru und das Institut für Christlich-Soziale Studien (IESC) das Präsenzforum „Vorschläge der Parteien zu Wirtschaft, Sicherheit und Justiz“ – einen Raum für Analyse und Dialog, der es ermöglicht, die Vorschläge der politischen Parteien zu Schlüsselthemen für die Entwicklung Perus zu verstehen und zu diskutieren.
UID:
END:VEVENT
END:VCALENDAR