BEGIN:VCALENDAR
PRODID:-//Veranstaltung//EN
VERSION:2.0
CALSCALE:GREGORIAN
BEGIN:VEVENT
DTSTART;VALUE=DATE-TIME:20260316T000000
DTEND;VALUE=DATE-TIME:20260316T235959
SUMMARY:Propuesta de los partidos en economía, seguridad y justicia
LOCATION:
DESCRIPTION:El próximo 16 de marzo la Fundación Konrad Adenauer (KAS) Perú y el Instituto de Estudios Social Cristiano (IESC) realizarán el foro presencial “Propuesta de los partidos en economía, seguridad y justicia”, un espacio de análisis y de diálogo que permitan comprender y debatir las propuestas de los partidos políticos en temas clave para el desarrollo del Perú.
UID:
END:VEVENT
END:VCALENDAR