BEGIN:VCALENDAR
PRODID:-//Veranstaltung//EN
VERSION:2.0
CALSCALE:GREGORIAN
BEGIN:VEVENT
DTSTART;VALUE=DATE-TIME:20260415T183000
DTEND;VALUE=DATE-TIME:20260415T200000
SUMMARY:Spurensuche: Zwischen Tanzpalästen und Arbeitslager
LOCATION:Hannover
DESCRIPTION:
UID:
END:VEVENT
END:VCALENDAR