BEGIN:VCALENDAR
PRODID:-//Veranstaltung//EN
VERSION:2.0
CALSCALE:GREGORIAN
BEGIN:VEVENT
DTSTART;VALUE=DATE-TIME:20260617T000000
DTEND;VALUE=DATE-TIME:20260619T235959
SUMMARY:GlobalFact 2026 – The World’s Leading Fact‑Checking Summit
LOCATION:
DESCRIPTION:KAS Media Africa will participate in GlobalFact 2026, the leading global forum for fact‑checkers and information integrity experts. Held in Vilnius, the summit brings together professionals from more than 80 countries to tackle AI‑driven misinformation and strengthen global cooperation.
UID:
END:VEVENT
END:VCALENDAR