BEGIN:VCALENDAR
PRODID:-//Veranstaltung//EN
VERSION:2.0
CALSCALE:GREGORIAN
BEGIN:VEVENT
DTSTART;VALUE=DATE-TIME:20260318T110000
DTEND;VALUE=DATE-TIME:20260318T133000
SUMMARY:Українське суспільство – 2025: виклики під час війни та очікування на шляху до миру
LOCATION:
DESCRIPTION:Фахова дискусія  «Українське суспільство - 2025: зміни, спричинені війною, очікування та виклики на шляху переходу до миру. Роль ветеранів у політиці та майбутній владі» відбудеться 18 березня 2026 р. в НА«Укрінформ», онлайн і наживо, за участі представників органів влади, політики, експертної та ветеранської спільнот, організацій громадянського суспільства. Подію організовано Центром Разумкова та Представництвом ФКА в Україні.
UID:
END:VEVENT
END:VCALENDAR