BEGIN:VCALENDAR
PRODID:-//Veranstaltung//EN
VERSION:2.0
CALSCALE:GREGORIAN
BEGIN:VEVENT
DTSTART;VALUE=DATE-TIME:20260320T000000
DTEND;VALUE=DATE-TIME:20260320T235959
SUMMARY:Análisis FODA Proyecto Observadores Electorales
LOCATION:
DESCRIPTION:Participantes:	 Representantes Aliados estratégicos proyecto Observadores Electorales  y DHR.
UID:
END:VEVENT
END:VCALENDAR