BEGIN:VCALENDAR
PRODID:-//Veranstaltung//EN
VERSION:2.0
CALSCALE:GREGORIAN
BEGIN:VEVENT
DTSTART;VALUE=DATE-TIME:20260601T200000
DTEND;VALUE=DATE-TIME:20260601T235959
SUMMARY:Feierabend-Talk „Reden wir über Familie“
LOCATION:
DESCRIPTION:
UID:
END:VEVENT
END:VCALENDAR