BEGIN:VCALENDAR
PRODID:-//Veranstaltung//EN
VERSION:2.0
CALSCALE:GREGORIAN
BEGIN:VEVENT
DTSTART;VALUE=DATE-TIME:20260616T170000
DTEND;VALUE=DATE-TIME:20260616T200000
SUMMARY:Onlinekurs: Kreative Videobearbeitung mit CapCut, Juni 2026
LOCATION:
DESCRIPTION:Ziel des Seminars ist es, Sie in die Lage zu versetzen, ansprechende Videos für Social Media, Präsentationen oder private Projekte zu erstellen. Der Kurs richtet sich an Einsteigerinnen und Einsteiger und setzt keine Vorkenntnisse voraus.
UID:
END:VEVENT
END:VCALENDAR