BEGIN:VCALENDAR
PRODID:-//Veranstaltung//EN
VERSION:2.0
CALSCALE:GREGORIAN
BEGIN:VEVENT
DTSTART;VALUE=DATE-TIME:20260508T143000
DTEND;VALUE=DATE-TIME:20260510T130000
SUMMARY:Indien zwischen Tradition und Moderne
LOCATION:Freiburg
DESCRIPTION:Indien bewegt sich zwischen tief verwurzelten Traditionen und rasanter Modernisierung. Ein Spannungsfeld, das die größte Demokratie der Welt prägt. Das Seminar beleuchtet die historischen Grundlagen, aktuellen Entwicklungen und gesellschaftlichen Dynamiken dieses vielschichtigen Landes.
UID:
END:VEVENT
END:VCALENDAR