BEGIN:VCALENDAR
PRODID:-//Veranstaltung//EN
VERSION:2.0
CALSCALE:GREGORIAN
BEGIN:VEVENT
DTSTART;VALUE=DATE-TIME:20260326T000000
DTEND;VALUE=DATE-TIME:20260329T235959
SUMMARY:EDS Winter University
LOCATION:Skopje
DESCRIPTION:Vom 26. bis 29. März 2026 organisiert die Konrad-Adenauer-Stiftung (KAS) in Skopje, in Zusammenarbeit mit den European Democrat Students (EDS) und der Jungen Union der VMRO-DPMNE, die EDS Winter University 2026. Die Veranstaltung widmet sich der Zukunft junger Menschen, der europäischen Perspektive des Westbalkans sowie der Rolle neuer Technologien und künstlicher Intelligenz in der Bildung und demokratischen Entwicklung.
UID:
END:VEVENT
END:VCALENDAR