BEGIN:VCALENDAR
PRODID:-//Veranstaltung//EN
VERSION:2.0
CALSCALE:GREGORIAN
BEGIN:VEVENT
DTSTART;VALUE=DATE-TIME:20260326T000000
DTEND;VALUE=DATE-TIME:20260329T235959
SUMMARY:Зимски универзитет на ЕДС
LOCATION:Скопје
DESCRIPTION:Од 26 до 29 март 2026 година во Скопје, Фондацијата Конрад Аденауер (КАС) во соработка со Европските Демократски Студенти (ЕДС) и Унијата на млади сили на ВМРО-ДПМНЕ го организира Зимскиот универзитет на ЕДС 2026, посветен на иднината на младите, европската перспектива на Западен Балкан и улогата на новите технологии и вештачката интелигенција во образованието и демократскиот развој.
UID:
END:VEVENT
END:VCALENDAR