BEGIN:VCALENDAR
PRODID:-//Veranstaltung//EN
VERSION:2.0
CALSCALE:GREGORIAN
BEGIN:VEVENT
DTSTART;VALUE=DATE-TIME:20260512T170000
DTEND;VALUE=DATE-TIME:20260512T190000
SUMMARY:Extremismus in Deutschland: Bestandsaufnahme
LOCATION:
DESCRIPTION:Extremistische Gruppen und ihre Umfelder unternehmen zunehmend den Versuch, Einfluss auf unsere Städte und Gemeinden zu nehmen – vor allem über soziale Medien und durch gezielte Ansprache junger Menschen. In diesem zweistündigen Online-Seminar erhalten Sie fundierte Einblicke in Inhalte, Organisationen und Strategien von Rechts- und Linksextremisten sowie Islamisten.
UID:
END:VEVENT
END:VCALENDAR