BEGIN:VCALENDAR
PRODID:-//Veranstaltung//EN
VERSION:2.0
CALSCALE:GREGORIAN
BEGIN:VEVENT
DTSTART;VALUE=DATE-TIME:20260403T000000
DTEND;VALUE=DATE-TIME:20260403T235959
SUMMARY:ยกระดับศักยภาพบุคลากรของสำนักงานเลขาธิการสภาผู้แทนราษฎรสู่การเป็นรัฐสภาอัจฉริยะ (SMART Parliament) ด้วยการใช้ปัญญาประดิษฐ์
LOCATION:
DESCRIPTION:กลุ่มงานรัฐสภาจำเป็นต้องพัฒนาหน่วยงานอย่างต่อเนื่องเพื่อให้มีลักษณะเป็นองค์กรแห่งการเรียนรู้ และนำมาประยุกต์ใช้ในการปฏิบัติราชการได้อย่างเหมาะสม เพื่อสนับสนุนการขับเคลื่อนรัฐสภาอัจฉริยะ (SMART Parliament) สำนักงานเลขาธิการสภาผู้แทนราษฎร ภายใต้การสนับสนุนของมูลนิธิคอนราด อาเดนาวร์ สำนักงานประเทศไทย จึงจัดการอบรมนี้ขึ้นเพื่อมุ่งพัฒนาศักยภาพบุคลากรของสำนักงานเลขาธิการสภาผู้แทนราษฎรในการประยุกต์ใช้ Generative AI ในการทำงานอย่างเป็นระบบ โดยต่อยอดจากการอบรมในปีที่ผ่านมา มุ่งเน้นการออกแบบคำสั่ง (prompt) และการประยุกต์ใช้ในระดับทีม เพื่อเพิ่มประสิทธิภาพการทำงาน การสื่อสาร และการสนับสนุนงานนิติบัญญัติ ควบคู่กับการสร้างวัฒนธรรมองค์กรแห่งการเรียนรู้และนวัตกรรม
UID:
END:VEVENT
END:VCALENDAR