BEGIN:VCALENDAR
PRODID:-//Veranstaltung//EN
VERSION:2.0
CALSCALE:GREGORIAN
BEGIN:VEVENT
DTSTART;VALUE=DATE-TIME:20260506T140000
DTEND;VALUE=DATE-TIME:20260506T161500
SUMMARY:XIII. Adenauer Konferenz zur Rolle Deutschlands in der internationalen Politik
LOCATION:Berlin
DESCRIPTION:
UID:
END:VEVENT
END:VCALENDAR