BEGIN:VCALENDAR
PRODID:-//Veranstaltung//EN
VERSION:2.0
CALSCALE:GREGORIAN
BEGIN:VEVENT
DTSTART;VALUE=DATE-TIME:20251023T000000
DTEND;VALUE=DATE-TIME:20251023T235959
SUMMARY:Navigating transformation – The use of partnership methodology in economic reform
LOCATION:
DESCRIPTION:
UID:
END:VEVENT
END:VCALENDAR