BEGIN:VCALENDAR
PRODID:-//Veranstaltung//EN
VERSION:2.0
CALSCALE:GREGORIAN
BEGIN:VEVENT
DTSTART;VALUE=DATE-TIME:20261011T000000
DTEND;VALUE=DATE-TIME:20261012T235959
SUMMARY:#IKPK26
LOCATION:Berlin
DESCRIPTION:
UID:
END:VEVENT
END:VCALENDAR