BEGIN:VCALENDAR
PRODID:-//Veranstaltung//EN
VERSION:2.0
CALSCALE:GREGORIAN
BEGIN:VEVENT
DTSTART;VALUE=DATE-TIME:20251115T000000
DTEND;VALUE=DATE-TIME:20251118T235959
SUMMARY:Delegation of Dr Gerhard Wahlers to South Africa
LOCATION:
DESCRIPTION:
UID:
END:VEVENT
END:VCALENDAR