BEGIN:VCALENDAR
PRODID:-//Veranstaltung//EN
VERSION:2.0
CALSCALE:GREGORIAN
BEGIN:VEVENT
DTSTART;VALUE=DATE-TIME:20260319T000000
DTEND;VALUE=DATE-TIME:20260428T235959
SUMMARY:Eksplorimi i trashëgimisë së komunizmit në Shqipërinë rurale përmes dokumentarit "Gladius"
LOCATION:
DESCRIPTION:
UID:
END:VEVENT
END:VCALENDAR