BEGIN:VCALENDAR
PRODID:-//Veranstaltung//EN
VERSION:2.0
CALSCALE:GREGORIAN
BEGIN:VEVENT
DTSTART;VALUE=DATE-TIME:20260524T000000
DTEND;VALUE=DATE-TIME:20260527T235959
SUMMARY:Nga komunizmi drejt transformimit, historia bashkëkohore shqiptare si pjesë e historisë evropiane
LOCATION:
DESCRIPTION:
UID:
END:VEVENT
END:VCALENDAR