BEGIN:VCALENDAR
PRODID:-//Veranstaltung//EN
VERSION:2.0
CALSCALE:GREGORIAN
BEGIN:VEVENT
DTSTART;VALUE=DATE-TIME:20261006T000000
DTEND;VALUE=DATE-TIME:20261007T235959
SUMMARY:Tirana Connectivity Forum 2026 - Engaged. Prepared. Connected
LOCATION:
DESCRIPTION:
UID:
END:VEVENT
END:VCALENDAR