BEGIN:VCALENDAR
PRODID:-//Veranstaltung//EN
VERSION:2.0
CALSCALE:GREGORIAN
BEGIN:VEVENT
DTSTART;VALUE=DATE-TIME:20260522T000000
DTEND;VALUE=DATE-TIME:20260524T235959
SUMMARY:Thematische Sitzung: Kunst unter der Diktatur, Kunst in der Freiheit
LOCATION:
DESCRIPTION:
UID:
END:VEVENT
END:VCALENDAR