BEGIN:VCALENDAR
PRODID:-//Veranstaltung//EN
VERSION:2.0
CALSCALE:GREGORIAN
BEGIN:VEVENT
DTSTART;VALUE=DATE-TIME:20260522T000000
DTEND;VALUE=DATE-TIME:20260524T235959
SUMMARY:Thematic Session: Art in Dictatorship, Art in Freedom
LOCATION:
DESCRIPTION:
UID:
END:VEVENT
END:VCALENDAR