BEGIN:VCALENDAR
PRODID:-//Veranstaltung//EN
VERSION:2.0
CALSCALE:GREGORIAN
BEGIN:VEVENT
DTSTART;VALUE=DATE-TIME:20260327T000000
DTEND;VALUE=DATE-TIME:20260329T235959
SUMMARY:Bilateraler Studentenworkshop
LOCATION:
DESCRIPTION:Vom 27. bis 29. März in Dojran organisiert die KAS in Zusammenarbeit mit der Fakultät für Maschinenbau der Ss. Cyril und Methodius Universität Skopje und der School of Civil Engineering der Aristoteles Universität Thessaloniki ein regionales Seminar für die Studenten beider Universitäten. Thema des Seminars ist „Grenzübergreifende Zusammenarbeit und Wissensaustausch zu erneuerbaren Energien: Wassermanagement und Solare Photovoltaik-Technologien“.
UID:
END:VEVENT
END:VCALENDAR