BEGIN:VCALENDAR
PRODID:-//Veranstaltung//EN
VERSION:2.0
CALSCALE:GREGORIAN
BEGIN:VEVENT
DTSTART;VALUE=DATE-TIME:20260327T000000
DTEND;VALUE=DATE-TIME:20260329T235959
SUMMARY:Билатерална студентска размена
LOCATION:
DESCRIPTION:Од 27 до 29 март во Дојран, Фондацијата Конрад Аденауер во заедничка соработка со Машинскиот факултет при Универзитетот Св. Кирил и Методиј – Скопје и Градежениот факултет при Универзитетот Аристотелис од Солун, организира регионална студентска работилница на тема “Прекугранична соработка и размена на искуства за обновливи извори на енергија – управување со води и фотоволтаични системи и технологии”.
UID:
END:VEVENT
END:VCALENDAR