BEGIN:VCALENDAR
PRODID:-//Veranstaltung//EN
VERSION:2.0
CALSCALE:GREGORIAN
BEGIN:VEVENT
DTSTART;VALUE=DATE-TIME:20260518T190000
DTEND;VALUE=DATE-TIME:20260518T203000
SUMMARY:Konrad Adenauer als Landespolitiker
LOCATION:
DESCRIPTION:Gemeinsam mit der CDU-Fraktion im nordrhein-westfälischen Landtag würdigen wir den 150. Geburtstag Konrad Adenauers. Der besondere Schwerpunkt liegt auf seiner Zeit als Landespolitiker in der Phase des Neubeginns nach dem Zweiten Weltkrieg und dem Nationalsozialismus.
UID:
END:VEVENT
END:VCALENDAR