BEGIN:VCALENDAR
PRODID:-//Veranstaltung//EN
VERSION:2.0
CALSCALE:GREGORIAN
BEGIN:VEVENT
DTSTART;VALUE=DATE-TIME:20260409T000000
DTEND;VALUE=DATE-TIME:20260411T235959
SUMMARY:Strategic Leadership and Ethical Campaign Strategies
LOCATION:
DESCRIPTION:Are you a young leader in San Pedro City with a passion for community leadership? We want to hear from you!
UID:
END:VEVENT
END:VCALENDAR