BEGIN:VCALENDAR
PRODID:-//Veranstaltung//EN
VERSION:2.0
CALSCALE:GREGORIAN
BEGIN:VEVENT
DTSTART;VALUE=DATE-TIME:20260327T000000
DTEND;VALUE=DATE-TIME:20260425T235959
SUMMARY:GoodGov Academy x Ready, Set, Win
LOCATION:
DESCRIPTION:Calling all youth leaders in Tagum City! Applications are now open for GoodGov Academy x Ready, Set, Win!
UID:
END:VEVENT
END:VCALENDAR