BEGIN:VCALENDAR
PRODID:-//Veranstaltung//EN
VERSION:2.0
CALSCALE:GREGORIAN
BEGIN:VEVENT
DTSTART;VALUE=DATE-TIME:20260416T000000
DTEND;VALUE=DATE-TIME:20260416T235959
SUMMARY:Politics and Personalities: Who Wins the Filipino Vote?
LOCATION:
DESCRIPTION:Manila Calling is a series of briefings and lectures organized by the Konrad-Adenauer-Stiftung Philippines. The format aims to provide background information and timely insights on current and emerging developments, covering domestic, regional, and global issues, with particular attention to themes relevant to both the Philippines and Germany.
UID:
END:VEVENT
END:VCALENDAR