BEGIN:VCALENDAR
PRODID:-//Veranstaltung//EN
VERSION:2.0
CALSCALE:GREGORIAN
BEGIN:VEVENT
DTSTART;VALUE=DATE-TIME:20260428T000000
DTEND;VALUE=DATE-TIME:20260430T235959
SUMMARY:Democracy: Navigating the Tensions of Unity and Division
LOCATION:
DESCRIPTION:The 2026 PPSA International Conference will take place from April 28 to 30 in Dumaguete City, hosted by Silliman University’s College of Arts and Sciences.
UID:
END:VEVENT
END:VCALENDAR