BEGIN:VCALENDAR
PRODID:-//Veranstaltung//EN
VERSION:2.0
CALSCALE:GREGORIAN
BEGIN:VEVENT
DTSTART;VALUE=DATE-TIME:20260530T184500
DTEND;VALUE=DATE-TIME:20260530T235959
SUMMARY:Courage im Dilemma: Gussie und Ihr Mann Konrad Adenauer
LOCATION:Stuttgart
DESCRIPTION:
UID:
END:VEVENT
END:VCALENDAR