BEGIN:VCALENDAR
PRODID:-//Veranstaltung//EN
VERSION:2.0
CALSCALE:GREGORIAN
BEGIN:VEVENT
DTSTART;VALUE=DATE-TIME:20260618T170000
DTEND;VALUE=DATE-TIME:20260618T203000
SUMMARY:Synagoge erleben – koscher genießen
LOCATION:Stuttgart
DESCRIPTION:
UID:
END:VEVENT
END:VCALENDAR