BEGIN:VCALENDAR
PRODID:-//Veranstaltung//EN
VERSION:2.0
CALSCALE:GREGORIAN
BEGIN:VEVENT
DTSTART;VALUE=DATE-TIME:20260616T000000
DTEND;VALUE=DATE-TIME:20260617T235959
SUMMARY:23. Internationale Sicherheitskonferenz "Forte"
LOCATION:Rio de Janeiro
DESCRIPTION:
UID:
END:VEVENT
END:VCALENDAR