BEGIN:VCALENDAR
PRODID:-//Veranstaltung//EN
VERSION:2.0
CALSCALE:GREGORIAN
BEGIN:VEVENT
DTSTART;VALUE=DATE-TIME:20260420T000000
DTEND;VALUE=DATE-TIME:20260421T235959
SUMMARY:CEEasia Forum 2026: Geo-tech frontiers
LOCATION:Bratislava
DESCRIPTION:
UID:
END:VEVENT
END:VCALENDAR