BEGIN:VCALENDAR
PRODID:-//Veranstaltung//EN
VERSION:2.0
CALSCALE:GREGORIAN
BEGIN:VEVENT
DTSTART;VALUE=DATE-TIME:20260326T153000
DTEND;VALUE=DATE-TIME:20260328T141500
SUMMARY:Vergessene Opfer? Antiziganismus im Nationalsozialismus
LOCATION:Belsen
DESCRIPTION:Die Veranstaltung eröffnet einen intensiven Zugang zu Geschichte und Gegenwart des Antiziganismus, indem sie historische Spurensuche mit kritischer Bildungsarbeit am authentischen Ort verbindet. Teilnehmende setzen sich dabei sowohl mit individuellen Schicksalen als auch mit gesellschaftlichen Strukturen auseinander und reflektieren, wie Erinnerungskultur heute gestaltet werden kann.
UID:
END:VEVENT
END:VCALENDAR