BEGIN:VCALENDAR
PRODID:-//Veranstaltung//EN
VERSION:2.0
CALSCALE:GREGORIAN
BEGIN:VEVENT
DTSTART;VALUE=DATE-TIME:20260424T000000
DTEND;VALUE=DATE-TIME:20260424T235959
SUMMARY:Book Launch and Discussion “Revisiting and Advancing Thailand's Foreign Policy towards the Indo-Pacific Strategy”
LOCATION:
DESCRIPTION:This event builds upon a closed-group discussion held on 24 October 2025, presenting a publication that re-examines Thailand’s foreign policy towards the Indo-Pacific from a regional perspective, highlighting how great power competition shapes local realities and underscoring the need to integrate subnational perspectives into policy discourse.
UID:
END:VEVENT
END:VCALENDAR