BEGIN:VCALENDAR
PRODID:-//Veranstaltung//EN
VERSION:2.0
CALSCALE:GREGORIAN
BEGIN:VEVENT
DTSTART;VALUE=DATE-TIME:20260424T000000
DTEND;VALUE=DATE-TIME:20260424T235959
SUMMARY:งานเสวนาเปิดตัวหนังสือ “ทบทวนและต่อยอดทฤษฎีและนโยบายต่างประเทศของไทยต่อยุทธศาสตร์อินโด-แปซิฟิกจากมุมมองส่วนภูมิภาค”
LOCATION:
DESCRIPTION:งานเสวนาเปิดตัวหนังสือในครั้งนี้ต่อยอดจากการหารือกลุ่มปิดเมื่อวันที่ 24 ตุลาคม พ.ศ. 2568 โดยนำเสนอผลงานวิชาการที่ทบทวนและวิเคราะห์นโยบายต่างประเทศไทยต่อภูมิภาคอินโด-แปซิฟิกในมุมมองระดับภูมิภาค ชี้ให้เห็นว่าการแข่งขันของมหาอำนาจส่งผลต่อระดับภูมิภาคอย่างไร และเน้นย้ำความสำคัญของการบูรณาการมุมมองระดับท้องถิ่นเข้าสู่วงผู้กำหนดนโยบาย
UID:
END:VEVENT
END:VCALENDAR