BEGIN:VCALENDAR
PRODID:-//Veranstaltung//EN
VERSION:2.0
CALSCALE:GREGORIAN
BEGIN:VEVENT
DTSTART;VALUE=DATE-TIME:20260504T190000
DTEND;VALUE=DATE-TIME:20260504T203000
SUMMARY:Weltraumsicherheit: Europa muss sich auch im Orbit verteidigen können
LOCATION:Gießen
DESCRIPTION:Das Weltall gewinnt für Europa zunehmend an sicherheits- und wirtschaftspolitischer Bedeutung, da moderne Infrastruktur und Technologien immer stärker von weltraumbasierten Systemen abhängen. Dr. Heinrich Kreft erläutert, welche Schritte die EU gehen sollte, um ihre Fähigkeiten im All weiterzuentwickeln und die Raumfahrtpolitik zukunftsorientiert auszurichten.
UID:
END:VEVENT
END:VCALENDAR