BEGIN:VCALENDAR
PRODID:-//Veranstaltung//EN
VERSION:2.0
CALSCALE:GREGORIAN
BEGIN:VEVENT
DTSTART;VALUE=DATE-TIME:20260427T000000
DTEND;VALUE=DATE-TIME:20260427T235959
SUMMARY:Die Kraft Europas und die Geschichte der EU seit Wirken der Regierung Adenauers
LOCATION:
DESCRIPTION:
UID:
END:VEVENT
END:VCALENDAR