BEGIN:VCALENDAR
PRODID:-//Veranstaltung//EN
VERSION:2.0
CALSCALE:GREGORIAN
BEGIN:VEVENT
DTSTART;VALUE=DATE-TIME:20260429T000000
DTEND;VALUE=DATE-TIME:20260429T235959
SUMMARY:Dorfliebe
LOCATION:Struppen
DESCRIPTION:
UID:
END:VEVENT
END:VCALENDAR