BEGIN:VCALENDAR
PRODID:-//Veranstaltung//EN
VERSION:2.0
CALSCALE:GREGORIAN
BEGIN:VEVENT
DTSTART;VALUE=DATE-TIME:20260410T150000
DTEND;VALUE=DATE-TIME:20260410T170000
SUMMARY:Youth Dialogue Series 2026
LOCATION:Gqeberha
DESCRIPTION:
UID:
END:VEVENT
END:VCALENDAR