BEGIN:VCALENDAR
PRODID:-//Veranstaltung//EN
VERSION:2.0
CALSCALE:GREGORIAN
BEGIN:VEVENT
DTSTART;VALUE=DATE-TIME:20260511T180000
DTEND;VALUE=DATE-TIME:20260511T210000
SUMMARY:150 Jahre Konrad Adenauer
LOCATION:Freiburg
DESCRIPTION:Wir feiern den 150. Geburtstag Konrad Adenauers mit einer Abendveranstaltung mit Prof. Norbert Frei. Seine neue Biographie "Konrad Adenauer. Kanzler nach der Katastrophe" zeigt Adenauer als Schlüsselfigur der deutschen Nachkriegsgeschichte der maßgeblich den Erfolg der Bundesrepublik vorbereitete. Die Veranstaltung findet in Kooperation mit der Professur für Neueste Geschichte und Zeitgeschichte am Historischen Seminar der Universität Freiburg statt.
UID:
END:VEVENT
END:VCALENDAR