BEGIN:VCALENDAR
PRODID:-//Veranstaltung//EN
VERSION:2.0
CALSCALE:GREGORIAN
BEGIN:VEVENT
DTSTART;VALUE=DATE-TIME:20260505T120000
DTEND;VALUE=DATE-TIME:20260505T143000
SUMMARY:Im Zentrum der politischen Gestaltung
LOCATION:Magdeburg
DESCRIPTION:Ein Besuch im Landtag Sachsen‑Anhalt bietet Bürgerinnen und Bürgern spannende Einblicke in die parlamentarische Arbeit und den direkten Austausch mit Abgeordneten. Er schafft Transparenz, fördert das Verständnis für politische Entscheidungen und stärkt die aktive demokratische Teilhabe.
UID:
END:VEVENT
END:VCALENDAR