BEGIN:VCALENDAR
PRODID:-//Veranstaltung//EN
VERSION:2.0
CALSCALE:GREGORIAN
BEGIN:VEVENT
DTSTART;VALUE=DATE-TIME:20260427T000000
DTEND;VALUE=DATE-TIME:20260427T235959
SUMMARY:Agenda parlamentaria en materia de administración de justicia: desafíos inmediatos
LOCATION:
DESCRIPTION:Participantes: Integrantes Bancada Parlamentaria PUSC 2026-2030 y asesores de su despacho
UID:
END:VEVENT
END:VCALENDAR