BEGIN:VCALENDAR
PRODID:-//Veranstaltung//EN
VERSION:2.0
CALSCALE:GREGORIAN
BEGIN:VEVENT
DTSTART;VALUE=DATE-TIME:20260602T140000
DTEND;VALUE=DATE-TIME:20260602T160000
SUMMARY:Deutschland und Thüringen
LOCATION:Gotha
DESCRIPTION:
UID:
END:VEVENT
END:VCALENDAR