BEGIN:VCALENDAR
PRODID:-//Veranstaltung//EN
VERSION:2.0
CALSCALE:GREGORIAN
BEGIN:VEVENT
DTSTART;VALUE=DATE-TIME:20260504T000000
DTEND;VALUE=DATE-TIME:20260504T235959
SUMMARY:Organspende - Verantwortung füreinander!?
LOCATION:Leipzig
DESCRIPTION:
UID:
END:VEVENT
END:VCALENDAR