BEGIN:VCALENDAR
PRODID:-//Veranstaltung//EN
VERSION:2.0
CALSCALE:GREGORIAN
BEGIN:VEVENT
DTSTART;VALUE=DATE-TIME:20260408T100000
DTEND;VALUE=DATE-TIME:20260409T190000
SUMMARY:Internationales Seminar: Künstliche Intelligenz und disruptive Technologien
LOCATION:
DESCRIPTION:Die Konrad-Adenauer-Stiftung (KAS) Mexiko veranstaltet gemeinsam mit der FES Aragón der UNAM einen hochrangigen internationalen Dialog über die disruptiven Auswirkungen künstlicher Intelligenz auf Sicherheit, Governance und Demokratie.
UID:
END:VEVENT
END:VCALENDAR