BEGIN:VCALENDAR
PRODID:-//Veranstaltung//EN
VERSION:2.0
CALSCALE:GREGORIAN
BEGIN:VEVENT
DTSTART;VALUE=DATE-TIME:20260408T100000
DTEND;VALUE=DATE-TIME:20260409T190000
SUMMARY:Seminario Internacional: Inteligencia Artificial y Tecnologías Disruptivas
LOCATION:
DESCRIPTION:La KAS México, en conjunto con la FES Aragón de la UNAM, organiza un diálogo internacional de alto nivel sobre los impactos disruptivos de la inteligencia artificial en la seguridad, la gobernanza y la democracia.
UID:
END:VEVENT
END:VCALENDAR