BEGIN:VCALENDAR
PRODID:-//Veranstaltung//EN
VERSION:2.0
CALSCALE:GREGORIAN
BEGIN:VEVENT
DTSTART;VALUE=DATE-TIME:20250919T000000
DTEND;VALUE=DATE-TIME:20250919T235959
SUMMARY:Breaking Barriers – Advancing Equal Rights and Inclusive Employment for the Deaf Community
LOCATION:
DESCRIPTION:
UID:
END:VEVENT
END:VCALENDAR