BEGIN:VCALENDAR
PRODID:-//Veranstaltung//EN
VERSION:2.0
CALSCALE:GREGORIAN
BEGIN:VEVENT
DTSTART;VALUE=DATE-TIME:20260616T180000
DTEND;VALUE=DATE-TIME:20260616T200000
SUMMARY:Rechtsstaat im Dialog: Stendal
LOCATION:Magdeburg
DESCRIPTION:Mit dabei sind Justizministerin Franziska Weidinger; Dr. Uwe Wegehaupt, Präsident des Landesverfassungsgerichts; Guido Kutscher, Präsident der Rechtsanwaltskammer; Dr. iur. Dr. h.c Josef Molkenbur, Staatssekretär im Ministerium für Justiz und Verbraucherschutz a.D.
UID:
END:VEVENT
END:VCALENDAR